BEGIN:VCALENDAR
VERSION:2.0
PRODID:-//jEvents 2.0 for Joomla//EN
CALSCALE:GREGORIAN
METHOD:PUBLISH
BEGIN:VTIMEZONE
TZID:Europe/Berlin
END:VTIMEZONE
BEGIN:VEVENT
UID:7fa24830c33176ccde0f434e441dbc55
CATEGORIES:Leichtathletik
CREATED:20240815T164316
SUMMARY:24. Gollhöfer Straßenlauf
LOCATION:Gollhofen
DESCRIPTION:<p>	Weitere Details k&ouml;nnen dem <strong><u><a href="https://www.fcgollh
 ofen.de/images/Leichtathletik/Flyer2025.jpg" target="_blank">Flyer</a></u><
 /strong> entnommen werden.</p>
DTSTAMP:20260420T173537
DTSTART;TZID=Europe/Berlin:20250531T170000
SEQUENCE:0
TRANSP:OPAQUE
END:VEVENT
END:VCALENDAR