BEGIN:VCALENDAR
VERSION:2.0
PRODID:-//jEvents 2.0 for Joomla//EN
CALSCALE:GREGORIAN
METHOD:PUBLISH
BEGIN:VTIMEZONE
TZID:Europe/Berlin
END:VTIMEZONE
BEGIN:VEVENT
UID:02PVU7O6IK000000VS5489B4VVE5FNTJ
CATEGORIES:Spiele 2.Mannschaft
CREATED:20240804T163730
SUMMARY:Ochsenfurter FV II-(SG 2) Gollhofen-Ippesheim, Meisterschaften, BK-Gr 2 WÜ
LOCATION:Maininselstadion Ochsenfurt\,Frickenhäuser Str. 25\,97199 Ochsenfurt
DESCRIPTION:
DTSTAMP:20260419T183257
DTSTART;TZID=Europe/Berlin:20250511T124500
DTEND;TZID=Europe/Berlin:20250511T143000
SEQUENCE:0
TRANSP:OPAQUE
END:VEVENT
END:VCALENDAR