BEGIN:VCALENDAR
VERSION:2.0
PRODID:-//jEvents 2.0 for Joomla//EN
CALSCALE:GREGORIAN
METHOD:PUBLISH
BEGIN:VTIMEZONE
TZID:Europe/Berlin
END:VTIMEZONE
BEGIN:VEVENT
UID:02PV0OMP64000000VS5489B3VU5PPGUO
CATEGORIES:Spiele 1.Mannschaft
CREATED:20240804T163628
SUMMARY:FC Iphofen-(SG 1) Ippesheim-Gollhofen, Meisterschaften, KK-Gr 2 WÜ
LOCATION:Sportgelände Iphofen\, Platz 1\,Schützenstr.\,97346 Iphofen
DESCRIPTION:
DTSTAMP:20260424T233334
DTSTART;TZID=Europe/Berlin:20240929T150000
DTEND;TZID=Europe/Berlin:20240929T164500
SEQUENCE:0
TRANSP:OPAQUE
END:VEVENT
END:VCALENDAR