BEGIN:VCALENDAR
VERSION:2.0
PRODID:-//jEvents 2.0 for Joomla//EN
CALSCALE:GREGORIAN
METHOD:PUBLISH
BEGIN:VTIMEZONE
TZID:Europe/Berlin
END:VTIMEZONE
BEGIN:VEVENT
UID:02PV0OMQAC000000VS5489B3VU5PPGUO
CATEGORIES:Spiele 1.Mannschaft
CREATED:20240804T163628
SUMMARY:SSV Kitzingen II-(SG 1) Ippesheim-Gollhofen, Meisterschaften, KK-Gr 2 WÜ
LOCATION:Sportgelände Egerländer Straße Kitzingen\, Platz 1\,Egerländer Str. 18\,973
 18 Kitzingen
DESCRIPTION:
DTSTAMP:20260424T233328
DTSTART;TZID=Europe/Berlin:20240915T124500
DTEND;TZID=Europe/Berlin:20240915T143000
SEQUENCE:0
TRANSP:OPAQUE
END:VEVENT
END:VCALENDAR