BEGIN:VCALENDAR
VERSION:2.0
PRODID:-//jEvents 2.0 for Joomla//EN
CALSCALE:GREGORIAN
METHOD:PUBLISH
BEGIN:VTIMEZONE
TZID:Europe/Berlin
END:VTIMEZONE
BEGIN:VEVENT
UID:02MAVOGKMG000000VS5489B4VSAUO6GA
CATEGORIES:Spiele 1.Mannschaft
CREATED:20230806T115241
SUMMARY:SV Tückelhausen/Hohestadt-(SG) Ippesheim-Gollhofen, Meisterschaften, KK-Gr 2 WÜ
LOCATION:Sportanlage Tückelhausen\,St.-Georg-Str. 7\,97199 Ochsenfurt
DESCRIPTION:
DTSTAMP:20260421T074219
DTSTART;TZID=Europe/Berlin:20240517T183000
DTEND;TZID=Europe/Berlin:20240517T201500
SEQUENCE:0
TRANSP:OPAQUE
END:VEVENT
END:VCALENDAR