BEGIN:VCALENDAR
VERSION:2.0
PRODID:-//jEvents 2.0 for Joomla//EN
CALSCALE:GREGORIAN
METHOD:PUBLISH
BEGIN:VTIMEZONE
TZID:Europe/Berlin
END:VTIMEZONE
BEGIN:VEVENT
UID:942bb36237c1cb7d628b3da048a43871
CATEGORIES:Veranstaltungen FCG
CREATED:20230306T213219
SUMMARY:Generalversammlung
DESCRIPTION:	--------------------------------------------------------------------------
 -----------------------------------------\n	\n	Einladung zur Jahreshauptver
 sammlung 2023\n	\n	Sehr geehrte Mitglieder,\n	zur ordentlichen Jahreshauptv
 ersammlung am Samstag, 25. März 2023 - 20.00 Uhr im Sportheim lädt Sie der 
 FC Gollhofen herzlich ein.\n	\n	Tagesordnung:\n	1. Begrüßung\n	2. Totenehru
 ng\n	3. Bericht des 1. Vorsitzenden\n	4. Bericht des Kassiers\n	5. Revision
 sbericht und Entlastung\n	6. Berichte der Spielleiter\n	7. Ein- und Ausblic
 ke \n	8. Anpassung der Beiträge\n	9. Ehrung des FCG´ler des Jahres\n	10. Eh
 rungen\n	11. Wünsche und Anträge\n	 \n	Anträge an die Versammlung müssen bi
 s spätestens 26.02.2023 in schriftlicher Form beim 1. Vorsitzenden Thomas H
 ellenschmidt eingegangen sein.\n	Sportliche Grüße\n	Thomas Hellenschmidt (1
 . Vorsitzender)\n			 
X-ALT-DESC;FMTTYPE=text/html:<p style="text-align: left;">	<strong>-------------------------------------
 ---------------------------------------------------------------------------
 ---<br />	<br />	Einladung zur Jahreshauptversammlung 2023</strong></p><p s
 tyle="text-align: left;">	<br />	Sehr geehrte Mitglieder,<br />	zur ordentl
 ichen Jahreshauptversammlung am Samstag, 25. M&auml;rz 2023 - 20.00 Uhr im 
 Sportheim l&auml;dt Sie der FC Gollhofen herzlich ein.</p><p style="text-al
 ign: left;">	<br />	<u>Tagesordnung<strong>:</strong></u></p><p style="text
 -align: left;">	1. Begr&uuml;&szlig;ung</p><p style="text-align: left;">	2.
  Totenehrung</p><p style="text-align: left;">	3. Bericht des 1. Vorsitzende
 n</p><p style="text-align: left;">	4. Bericht des Kassiers</p><p style="tex
 t-align: left;">	5. Revisionsbericht und Entlastung</p><p style="text-align
 : left;">	6. Berichte der Spielleiter</p><p style="text-align: left;">	7. E
 in- und Ausblicke&nbsp;</p><p style="text-align: left;">	8. Anpassung der B
 eitr&auml;ge</p><p style="text-align: left;">	9. Ehrung des FCG&acute;ler d
 es Jahres</p><p style="text-align: left;">	10. Ehrungen</p><p style="text-a
 lign: left;">	11. W&uuml;nsche und Antr&auml;ge</p><p style="text-align: le
 ft;">	&nbsp;</p><p style="text-align: left;">	Antr&auml;ge an die Versammlu
 ng m&uuml;ssen bis sp&auml;testens 26.02.2023 in schriftlicher Form beim 1.
  Vorsitzenden Thomas Hellenschmidt eingegangen sein.</p><p style="text-alig
 n: left;">	Sportliche Gr&uuml;&szlig;e<br />	Thomas Hellenschmidt (1. Vorsi
 tzender)</p><div id="ckimgrsz" style="left: 858px; top: 12px;">	<div class=
 "preview">		&nbsp;</div></div>
DTSTAMP:20260422T212232
DTSTART;TZID=Europe/Berlin:20230325T200000
SEQUENCE:0
TRANSP:OPAQUE
END:VEVENT
END:VCALENDAR