BEGIN:VCALENDAR
VERSION:2.0
PRODID:-//jEvents 2.0 for Joomla//EN
CALSCALE:GREGORIAN
METHOD:PUBLISH
BEGIN:VTIMEZONE
TZID:Europe/Berlin
END:VTIMEZONE
BEGIN:VEVENT
UID:e022b1410ff09ad54a2a20c45616020f
CATEGORIES:Veranstaltungen FCG
CREATED:20221221T135154
SUMMARY:Jahresauftakt: Weißwurstfrühstück ab 10:00 Uhr
DESCRIPTION:
DTSTAMP:20260423T005230
DTSTART;TZID=Europe/Berlin:20230106T100000
SEQUENCE:0
TRANSP:OPAQUE
END:VEVENT
END:VCALENDAR