BEGIN:VCALENDAR
VERSION:2.0
PRODID:-//jEvents 2.0 for Joomla//EN
CALSCALE:GREGORIAN
METHOD:PUBLISH
BEGIN:VTIMEZONE
TZID:Europe/Berlin
END:VTIMEZONE
BEGIN:VEVENT
UID:02IIF96NC0000000VS5489B3VT2HNHT0
CATEGORIES:Spiele 1.Mannschaft
CREATED:20220902T132917
SUMMARY:FC Gollhofen-ASV Ippesheim, Meisterschaften, AK-Gr 2 WÜ
LOCATION:Sportplatz Gollhofen\,Sportplatzstr.\,97258 Gollhofen
DESCRIPTION:
DTSTAMP:20260420T011227
DTSTART;TZID=Europe/Berlin:20221009T150000
DTEND;TZID=Europe/Berlin:20221009T164500
SEQUENCE:0
TRANSP:OPAQUE
END:VEVENT
END:VCALENDAR