BEGIN:VCALENDAR
VERSION:2.0
PRODID:-//jEvents 2.0 for Joomla//EN
CALSCALE:GREGORIAN
METHOD:PUBLISH
BEGIN:VTIMEZONE
TZID:Europe/Berlin
END:VTIMEZONE
BEGIN:VEVENT
UID:02TL4OENC4000000VS5489BTVV03720K
CATEGORIES:Spiele 1.Mannschaft
CREATED:20250910T184436
SUMMARY:TSV Rottendorf II-(SG 1) Ippesheim-Gollhofen, Meisterschaften, KK-Gr 2 WÜ
LOCATION:Sportgelände Am Grasholz Rottendorf\,Am Grasholz\,97228 Rottendorf
DESCRIPTION:
DTSTAMP:20260419T155644
DTSTART;TZID=Europe/Berlin:20260308T124500
DTEND;TZID=Europe/Berlin:20260308T143000
SEQUENCE:0
TRANSP:OPAQUE
END:VEVENT
END:VCALENDAR